BEGIN:VCALENDAR
VERSION:2.0
PRODID:Quicksite
NAME:Calendrier
X-WR-CALNAME:Calendrier
REFRESH-INTERVAL;VALUE=DURATION:PT240M
X-PUBLISHED-TTL:PT240M
BEGIN:VEVENT
UID:69eb80a47f937
SUMMARY:Fête nationale 🫕
DESCRIPTION:Organisé par la Commune
LOCATION:Centre du village
DTSTART:20260801
DTSTAMP:20260114T114809Z
END:VEVENT
END:VCALENDAR